{"text_format":"3","workbook":"xlsx","n_sheets":9,"sheets":["Início","Dados","Solicitação","Amostras","controle","Programação","Confirmação","pdf","Fim"],"not_rendered":{"charts":1,"images":9,"macros":1,"defined_names":10},"read":"whole","date_system":"1900"}

{"sheet":"Início","index":0,"n_rows":14,"n_cols":5,"rows_kept":14}
{"$rows_empty":10}
[{"$nulls":4},"Aviso:"]
[{"$nulls":4},"Este arquivo contém macros e para utilizá-lo é necessário habilitá-las. Para isso, clique em 'Habilitar conteúdo' na barra de mensagens acima ou em: Arquivo > Aviso de segurança > Habilitar conteúdo."]
[]
[{"$nulls":4},"Uma cópia do formulário gerado através dessa planilha deve ser anexada no campo adequado durante a solicitação, e outra, entregue no Laboratório de Análises Térmicas junto com as amostras."]

{"sheet":"Dados","index":1,"n_rows":22,"n_cols":9,"rows_kept":22,"hidden":true,"merged":[[0,4,0,12],[1,4,1,12],[2,4,2,12],[4,8,4,9],[7,4,7,5],[10,4,10,5],[22,4,22,5]]}
[{"$nulls":4},"Para construir sua ficha de solicitação, preencha os campos necessários e clique em continuar."]
[{"$nulls":4},"Os campos marcados com * são de preenchimento obrigatório."]
[{"$nulls":4},"Pressione ENTER sempre que inserir uma nova informação."]
[]
[{"$nulls":4},"Insira seus dados",{"$nulls":3},"Passo 1 de 5"]
[]
[{"$nulls":4},"Nome*"]
[]
[]
[{"$nulls":4},"E-mail*"]
[]
[]
[{"$nulls":4},"Tipo de vínculo*"]
[]
[]
[{"$nulls":4},"Matrícula*"]
[]
[]
[{"$nulls":4},"Departamento*"]
[]
[]
[{"$nulls":4},"Orientador*"]

{"sheet":"Solicitação","index":2,"n_rows":29,"n_cols":17,"rows_kept":29,"hidden":true,"merged":[[0,4,0,18],[1,4,1,18],[4,13,4,14],[7,4,8,14],[15,4,18,14],[23,16,27,24],[28,16,29,24]]}
[{"$nulls":4},"Os campos marcados com * são de preenchimento obrigatório."]
[{"$nulls":4},"Pressione ENTER sempre que  inserir uma nova informação."]
[]
[]
[{"$nulls":4},"Descreva o que você deseja",{"$nulls":8},"Passo 2 de 5"]
[]
[{"$nulls":4},"Que técnica você deseja solicitar?*"]
[]
["DIZ EQUIP",{"$f":"controle!A3","v":0}]
[]
[{"$nulls":4},"Quantas análises você pretende realizar?*"]
[{"$nulls":4},1]
[]
[]
[{"$nulls":4},"Qual o objetivo das suas análises?*"]
{"$rows_empty":8}
["TGA  (Thermogravimetric analysis) é uma técnica onde a massa de um material é medida em função da temperatura ou do tempo, enquanto este é submetido a um programa controlado de temperatura.",{"$nulls":15},{"$f":"IF(O24=\"tga\",A24,IF(O24=\"dta\",A25,IF(O24=\"dsc\",A26,IF(O24=\"sta\",A27,IF(O24=\"ega\",A28,IF(O24=\"ega-tga\",A29,\"\"))))))","v":""}]
["DTA (Differential thermal analysis) é uma técnica que monitora a diferença de temperatura entre uma amostra e um material de referência em função da temperatura ou do tempo."]
["DSC (Differential scanning calorimetry) é uma técnica que monitora a diferença de fluxo de calor entre uma amostra e um material de referência, em função da temperatura ou do tempo."]
["STA (simultaneous thermal analysis) é um termo que indica a medida de duas ou mais propriedades de uma amostra simultaneamente. (Sinais disponíveis: Massa, diferença de temperatura e fluxo de calor)"]
["EGA (Evolved gas analysis) compreende uma família de técnicas onde se determina a natureza e/ou a quantidade de gás desprendido enquanto a amostra é submetida a um programa controlado de temperatura. (Detector disponível: FTIR)"]
["EGA-TGA é a combinação das Técnicas: Termogravimetria e Análise de gás desprendido (Detector disponível: FTIR)",{"$nulls":15},{"$f":"IF(Q24<>\"\",\"Fonte: IUPAC. ICTAC nomenclature of thermal analysis. In: LEVER, T. et al. Pure & Applied Chemistry, v.86, n.4, p.545-553, 2014\",\"\")","v":""}]

{"sheet":"Amostras","index":3,"n_rows":137,"n_cols":14,"rows_kept":137,"hidden":true,"merged":[[0,4,0,16],[1,4,1,16],[2,4,2,16],[4,11,4,12],[7,9,7,12],[8,10,8,12],[11,4,12,12],[15,4,15,12],[19,9,19,12],[20,10,20,12],[23,4,24,12],[27,4,27,12],[31,9,31,12],[32,10,32,12],[35,4,36,12],[39,4,39,12],[43,9,43,12],[44,10,44,12],[47,4,48,12],[51,4,51,12],[55,9,55,12],[56,10,56,12],[59,4,60,12],[63,4,63,12],[67,9,67,12],[68,10,68,12],[71,4,72,12],[75,4,75,12],[79,9,79,12],[80,10,80,12],[83,4,84,12],[87,4,87,12],[91,9,91,12],[92,10,92,12],[95,4,96,12],[99,4,99,12],[103,9,103,12],[104,10,104,12],[107,4,108,12],[111,4,111,12],[115,9,115,12],[116,10,116,12],[119,4,120,12],[123,4,123,12]]}
[{"$nulls":4},"Os campos marcados com * são de preenchimento obrigatório. O código de identificação dará nome ao arquivo resultado da análise."]
[{"$nulls":4},"Se sua amostra possui os metais Fe, Co ou Cu, assinale essa característica usando a caixa com essa descrição."]
[{"$nulls":4},"Pressione ENTER sempre que inserir uma nova informação."]
[]
["N amstras",{"$f":"Solicitação!E12","v":1},null,null,"Descreva suas amostras",{"$nulls":6},"Passo 3 de 5"]
["Up",{"$f":"((-17*B5)+171)","v":154}]
["Dwn",{"$f":"1/B6","v":0.006493506493506494},null,null,"Amostra 01"]
["bool prog",{"$f":"IF(controle!B3=\"Q600\",1,IF(controle!B3=\"Q20\",2,IF(controle!B3=\"TG209F1\",3)))","v":false},null,null,"Código para identificação*",{"$nulls":4},"Condição de armazenamento"]
[{"$nulls":10},"Temperatura ambiente"]
[]
[{"$nulls":4},"Composição da amostra*"]
[]
[]
[]
[{"$nulls":4},"Características da amostra"]
[]
[]
[]
[{"$nulls":4},"Amostra 02"]
[{"$nulls":4},"Código para identificação*",{"$nulls":4},"Condição de armazenamento"]
[{"$nulls":10},"Temperatura ambiente"]
[]
[{"$nulls":4},"Composição da amostra*"]
[]
[]
[]
[{"$nulls":4},"Características da amostra"]
[]
[]
[]
[{"$nulls":4},"Amostra 03"]
[{"$nulls":4},"Código para identificação*",{"$nulls":4},"Condição de armazenamento"]
[{"$nulls":10},"Temperatura ambiente"]
[]
[{"$nulls":4},"Composição da amostra*"]
[]
[]
[]
[{"$nulls":4},"Características da amostra"]
[]
[]
[]
[{"$nulls":4},"Amostra 04"]
[{"$nulls":4},"Código para identificação*",{"$nulls":4},"Condição de armazenamento"]
[{"$nulls":10},"Temperatura ambiente"]
[]
[{"$nulls":4},"Composição da amostra*"]
[]
[]
[]
[{"$nulls":4},"Características da amostra"]
[]
[]
[]
[{"$nulls":4},"Amostra 05"]
[{"$nulls":4},"Código para identificação*",{"$nulls":4},"Condição de armazenamento"]
[{"$nulls":10},"Temperatura ambiente"]
[]
[{"$nulls":4},"Composição da amostra*"]
[]
[]
[]
[{"$nulls":4},"Características da amostra"]
[]
[]
[]
[{"$nulls":4},"Amostra 06"]
[{"$nulls":4},"Código para identificação*",{"$nulls":4},"Condição de armazenamento"]
[{"$nulls":10},"Temperatura ambiente"]
[]
[{"$nulls":4},"Composição da amostra*"]
[]
[]
[]
[{"$nulls":4},"Características da amostra"]
[]
[]
[]
[{"$nulls":4},"Amostra 07"]
[{"$nulls":4},"Código para identificação*",{"$nulls":4},"Condição de armazenamento"]
[{"$nulls":10},"Temperatura ambiente"]
[]
[{"$nulls":4},"Composição da amostra*"]
[]
[]
[]
[{"$nulls":4},"Características da amostra"]
[]
[]
[]
[{"$nulls":4},"Amostra 08"]
[{"$nulls":4},"Código para identificação*",{"$nulls":4},"Condição de armazenamento"]
[{"$nulls":10},"Temperatura ambiente"]
[]
[{"$nulls":4},"Composição da amostra*"]
[]
[]
[]
[{"$nulls":4},"Características da amostra"]
[]
[]
[]
[{"$nulls":4},"Amostra 09"]
[{"$nulls":4},"Código para identificação*",{"$nulls":4},"Condição de armazenamento"]
[{"$nulls":10},"Temperatura ambiente"]
[]
[{"$nulls":4},"Composição da amostra*"]
[]
[]
[]
[{"$nulls":4},"Características da amostra"]
[]
[]
[]
[{"$nulls":4},"Amostra 10"]
[{"$nulls":4},"Código para identificação*",{"$nulls":4},"Condição de armazenamento"]
[{"$nulls":10},"Temperatura ambiente"]
[]
[{"$nulls":4},"Composição da amostra*"]
[]
[]
[]
[{"$nulls":4},"Características da amostra"]
[]
[]
[]
["Características das amostras",{"$nulls":11},"texto"]
[{"$f":"IF(controle!A34=TRUE,\"Sólida; \",\"\")","v":""},{"$f":"IF(controle!B34=TRUE,\"Líquida; \",\"\")","v":""},{"$f":"IF(controle!C34=TRUE,\"Higroscópica; \",\"\")","v":""},{"$f":"IF(controle!D34=TRUE,\"Volátil; \",\"\")","v":""},{"$f":"IF(controle!E34=TRUE,\"Inflamável; \",\"\")","v":""},{"$f":"IF(controle!F34=TRUE,\"Explosiva; \",\"\")","v":""},{"$f":"IF(controle!G34=TRUE,\"Tóxica; \",\"\")","v":""},{"$f":"IF(controle!H34=TRUE,\"Irritante; \",\"\")","v":""},{"$f":"IF(controle!I34=TRUE,\"Fotossensível; \",\"\")","v":""},{"$f":"IF(controle!J34=TRUE,\"Corrosiva; \",\"\")","v":""},{"$f":"IF(controle!K34=TRUE,\"Ácida ou libera vapor ácido\",\"\")","v":""},{"$f":"IF(controle!L34=TRUE,\"Contém Fe, Co ou Cu; \",\"\")","v":""},{"$f":"CONCATENATE(A128,B128,C128,D128,E128,F128,G128,H128,I128,J128,K128,L128)","v":""},"'"]
[{"$f":"IF(controle!A35=TRUE,\"Sólida; \",\"\")","v":""},{"$f":"IF(controle!B35=TRUE,\"Líquida; \",\"\")","v":""},{"$f":"IF(controle!C35=TRUE,\"Higroscópica; \",\"\")","v":""},{"$f":"IF(controle!D35=TRUE,\"Volátil; \",\"\")","v":""},{"$f":"IF(controle!E35=TRUE,\"Inflamável; \",\"\")","v":""},{"$f":"IF(controle!F35=TRUE,\"Explosiva; \",\"\")","v":""},{"$f":"IF(controle!G35=TRUE,\"Tóxica; \",\"\")","v":""},{"$f":"IF(controle!H35=TRUE,\"Irritante; \",\"\")","v":""},{"$f":"IF(controle!I35=TRUE,\"Fotossensível; \",\"\")","v":""},{"$f":"IF(controle!J35=TRUE,\"Corrosiva; \",\"\")","v":""},{"$f":"IF(controle!K35=TRUE,\"Ácida ou libera vapor ácido\",\"\")","v":""},{"$f":"IF(controle!L35=TRUE,\"Contém Fe, Co ou Cu; \",\"\")","v":""},""]
[{"$f":"IF(controle!A36=TRUE,\"Sólida; \",\"\")","v":""},{"$f":"IF(controle!B36=TRUE,\"Líquida; \",\"\")","v":""},{"$f":"IF(controle!C36=TRUE,\"Higroscópica; \",\"\")","v":""},{"$f":"IF(controle!D36=TRUE,\"Volátil; \",\"\")","v":""},{"$f":"IF(controle!E36=TRUE,\"Inflamável; \",\"\")","v":""},{"$f":"IF(controle!F36=TRUE,\"Explosiva; \",\"\")","v":""},{"$f":"IF(controle!G36=TRUE,\"Tóxica; \",\"\")","v":""},{"$f":"IF(controle!H36=TRUE,\"Irritante; \",\"\")","v":""},{"$f":"IF(controle!I36=TRUE,\"Fotossensível; \",\"\")","v":""},{"$f":"IF(controle!J36=TRUE,\"Corrosiva; \",\"\")","v":""},{"$f":"IF(controle!K36=TRUE,\"Ácida ou libera vapor ácido; \",\"\")","v":""},{"$f":"IF(controle!L36=TRUE,\"Contém Fe, Co ou Cu; \",\"\")","v":""},""]
[{"$f":"IF(controle!A37=TRUE,\"Sólida; \",\"\")","v":""},{"$f":"IF(controle!B37=TRUE,\"Líquida; \",\"\")","v":""},{"$f":"IF(controle!C37=TRUE,\"Higroscópica; \",\"\")","v":""},{"$f":"IF(controle!D37=TRUE,\"Volátil; \",\"\")","v":""},{"$f":"IF(controle!E37=TRUE,\"Inflamável; \",\"\")","v":""},{"$f":"IF(controle!F37=TRUE,\"Explosiva; \",\"\")","v":""},{"$f":"IF(controle!G37=TRUE,\"Tóxica; \",\"\")","v":""},{"$f":"IF(controle!H37=TRUE,\"Irritante; \",\"\")","v":""},{"$f":"IF(controle!I37=TRUE,\"Fotossensível; \",\"\")","v":""},{"$f":"IF(controle!J37=TRUE,\"Corrosiva; \",\"\")","v":""},{"$f":"IF(controle!K37=TRUE,\"Ácida ou libera vapor ácido; \",\"\")","v":""},{"$f":"IF(controle!L37=TRUE,\"Contém Fe, Co ou Cu; \",\"\")","v":""},""]
[{"$f":"IF(controle!A38=TRUE,\"Sólida; \",\"\")","v":""},{"$f":"IF(controle!B38=TRUE,\"Líquida; \",\"\")","v":""},{"$f":"IF(controle!C38=TRUE,\"Higroscópica; \",\"\")","v":""},{"$f":"IF(controle!D38=TRUE,\"Volátil; \",\"\")","v":""},{"$f":"IF(controle!E38=TRUE,\"Inflamável; \",\"\")","v":""},{"$f":"IF(controle!F38=TRUE,\"Explosiva; \",\"\")","v":""},{"$f":"IF(controle!G38=TRUE,\"Tóxica; \",\"\")","v":""},{"$f":"IF(controle!H38=TRUE,\"Irritante; \",\"\")","v":""},{"$f":"IF(controle!I38=TRUE,\"Fotossensível; \",\"\")","v":""},{"$f":"IF(controle!J38=TRUE,\"Corrosiva; \",\"\")","v":""},{"$f":"IF(controle!K38=TRUE,\"Ácida ou libera vapor ácido; \",\"\")","v":""},{"$f":"IF(controle!L38=TRUE,\"Contém Fe, Co ou Cu; \",\"\")","v":""},""]
[{"$f":"IF(controle!A39=TRUE,\"Sólida; \",\"\")","v":""},{"$f":"IF(controle!B39=TRUE,\"Líquida; \",\"\")","v":""},{"$f":"IF(controle!C39=TRUE,\"Higroscópica; \",\"\")","v":""},{"$f":"IF(controle!D39=TRUE,\"Volátil; \",\"\")","v":""},{"$f":"IF(controle!E39=TRUE,\"Inflamável; \",\"\")","v":""},{"$f":"IF(controle!F39=TRUE,\"Explosiva; \",\"\")","v":""},{"$f":"IF(controle!G39=TRUE,\"Tóxica; \",\"\")","v":""},{"$f":"IF(controle!H39=TRUE,\"Irritante; \",\"\")","v":""},{"$f":"IF(controle!I39=TRUE,\"Fotossensível; \",\"\")","v":""},{"$f":"IF(controle!J39=TRUE,\"Corrosiva; \",\"\")","v":""},{"$f":"IF(controle!K39=TRUE,\"Ácida ou libera vapor ácido; \",\"\")","v":""},{"$f":"IF(controle!L39=TRUE,\"Contém Fe, Co ou Cu; \",\"\")","v":""},""]
[{"$f":"IF(controle!A40=TRUE,\"Sólida; \",\"\")","v":""},{"$f":"IF(controle!B40=TRUE,\"Líquida; \",\"\")","v":""},{"$f":"IF(controle!C40=TRUE,\"Higroscópica; \",\"\")","v":""},{"$f":"IF(controle!D40=TRUE,\"Volátil; \",\"\")","v":""},{"$f":"IF(controle!E40=TRUE,\"Inflamável; \",\"\")","v":""},{"$f":"IF(controle!F40=TRUE,\"Explosiva; \",\"\")","v":""},{"$f":"IF(controle!G40=TRUE,\"Tóxica; \",\"\")","v":""},{"$f":"IF(controle!H40=TRUE,\"Irritante; \",\"\")","v":""},{"$f":"IF(controle!I40=TRUE,\"Fotossensível; \",\"\")","v":""},{"$f":"IF(controle!J40=TRUE,\"Corrosiva; \",\"\")","v":""},{"$f":"IF(controle!K40=TRUE,\"Ácida ou libera vapor ácido; \",\"\")","v":""},{"$f":"IF(controle!L40=TRUE,\"Contém Fe, Co ou Cu; \",\"\")","v":""},"","'"]
[{"$f":"IF(controle!A41=TRUE,\"Sólida; \",\"\")","v":""},{"$f":"IF(controle!B41=TRUE,\"Líquida; \",\"\")","v":""},{"$f":"IF(controle!C41=TRUE,\"Higroscópica; \",\"\")","v":""},{"$f":"IF(controle!D41=TRUE,\"Volátil; \",\"\")","v":""},{"$f":"IF(controle!E41=TRUE,\"Inflamável; \",\"\")","v":""},{"$f":"IF(controle!F41=TRUE,\"Explosiva; \",\"\")","v":""},{"$f":"IF(controle!G41=TRUE,\"Tóxica; \",\"\")","v":""},{"$f":"IF(controle!H41=TRUE,\"Irritante; \",\"\")","v":""},{"$f":"IF(controle!I41=TRUE,\"Fotossensível; \",\"\")","v":""},{"$f":"IF(controle!J41=TRUE,\"Corrosiva; \",\"\")","v":""},{"$f":"IF(controle!K41=TRUE,\"Ácida ou libera vapor ácido; \",\"\")","v":""},{"$f":"IF(controle!L41=TRUE,\"Contém Fe, Co ou Cu; \",\"\")","v":""},"","'"]
[{"$f":"IF(controle!A42=TRUE,\"Sólida; \",\"\")","v":""},{"$f":"IF(controle!B42=TRUE,\"Líquida; \",\"\")","v":""},{"$f":"IF(controle!C42=TRUE,\"Higroscópica; \",\"\")","v":""},{"$f":"IF(controle!D42=TRUE,\"Volátil; \",\"\")","v":""},{"$f":"IF(controle!E42=TRUE,\"Inflamável; \",\"\")","v":""},{"$f":"IF(controle!F42=TRUE,\"Explosiva; \",\"\")","v":""},{"$f":"IF(controle!G42=TRUE,\"Tóxica; \",\"\")","v":""},{"$f":"IF(controle!H42=TRUE,\"Irritante; \",\"\")","v":""},{"$f":"IF(controle!I42=TRUE,\"Fotossensível; \",\"\")","v":""},{"$f":"IF(controle!J42=TRUE,\"Corrosiva; \",\"\")","v":""},{"$f":"IF(controle!K42=TRUE,\"Ácida ou libera vapor ácido; \",\"\")","v":""},{"$f":"IF(controle!L42=TRUE,\"Contém Fe, Co ou Cu; \",\"\")","v":""},"","'"]
[{"$f":"IF(controle!A43=TRUE,\"Sólida; \",\"\")","v":""},{"$f":"IF(controle!B43=TRUE,\"Líquida; \",\"\")","v":""},{"$f":"IF(controle!C43=TRUE,\"Higroscópica; \",\"\")","v":""},{"$f":"IF(controle!D43=TRUE,\"Volátil; \",\"\")","v":""},{"$f":"IF(controle!E43=TRUE,\"Inflamável; \",\"\")","v":""},{"$f":"IF(controle!F43=TRUE,\"Explosiva; \",\"\")","v":""},{"$f":"IF(controle!G43=TRUE,\"Tóxica; \",\"\")","v":""},{"$f":"IF(controle!H43=TRUE,\"Irritante; \",\"\")","v":""},{"$f":"IF(controle!I43=TRUE,\"Fotossensível; \",\"\")","v":""},{"$f":"IF(controle!J43=TRUE,\"Corrosiva; \",\"\")","v":""},{"$f":"IF(controle!K43=TRUE,\"Ácida ou libera vapor ácido; \",\"\")","v":""},{"$f":"IF(controle!L43=TRUE,\"Contém Fe, Co ou Cu; \",\"\")","v":""},"","'"]

{"sheet":"controle","index":4,"n_rows":48,"n_cols":16,"rows_kept":48,"hidden":true,"merged":[[15,7,15,11],[19,7,19,10]]}
[{"$nulls":10},"Descrição",{"$nulls":4},"\""]
["FORPROG","BOOL TEC","TYPEANA",{"$nulls":5},"BOOL","ETAPA","PROCESSO"]
[null,{"$f":"IF(A3=1,\"Q600\",IF(A3=2,\"Q20\",IF(A3=3,\"TG209F1\")))","v":false},{"$nulls":7},{"$f":"IF(Programação!W20=0,1,\"\")","v":""},{"$f":"IF(ISNUMBER(J3),CONCATENATE(Programação!F20,\" \",Programação!G20,\" \",Programação!H20,\" \",Programação!I20,\" \",Programação!J20,\" \",Programação!K20),\"\")","v":""}]
["DIZ EQUIP",null,"DIZ TECNI",{"$nulls":6},{"$f":"IF(Programação!W21=0,2,\"\")","v":""},{"$f":"IF(ISNUMBER(J4),CONCATENATE(Programação!F21,\" \",Programação!G21,\" \",Programação!H21,\" \",Programação!I21,\" \",Programação!J21,\" \",Programação!K21),\"\")","v":""}]
[{"$nulls":9},{"$f":"IF(Programação!W22=0,3,\"\")","v":""},{"$f":"IF(ISNUMBER(J5),CONCATENATE(Programação!F22,\" \",Programação!G22,\" \",Programação!H22,\" \",Programação!I22,\" \",Programação!J22,\" \",Programação!K22),\"\")","v":""}]
[null,"Lista Prog","Lista cadinho",null,"Lista gás",{"$nulls":4},{"$f":"IF(Programação!W23=0,4,\"\")","v":""},{"$f":"IF(ISNUMBER(J6),CONCATENATE(Programação!F23,\" \",Programação!G23,\" \",Programação!H23,\" \",Programação!I23,\" \",Programação!J23,\" \",Programação!K23),\"\")","v":""}]
[null,"P1","α-Alumina",null,"Nitrogênio",{"$nulls":4},{"$f":"IF(Programação!W24=0,5,\"\")","v":""},{"$f":"IF(ISNUMBER(J7),CONCATENATE(Programação!F24,\" \",Programação!G24,\" \",Programação!H24,\" \",Programação!I24,\" \",Programação!J24,\" \",Programação!K24),\"\")","v":""}]
[null,"P2","Platina",null,"Ar sintético",{"$nulls":4},{"$f":"IF(Programação!W25=0,6,\"\")","v":""},{"$f":"IF(ISNUMBER(J8),CONCATENATE(Programação!F25,\" \",Programação!G25,\" \",Programação!H25,\" \",Programação!I25,\" \",Programação!J25,\" \",Programação!K25),\"\")","v":""}]
[null,"P3","Alumínio",{"$nulls":6},{"$f":"IF(Programação!W26=0,7,\"\")","v":""},{"$f":"IF(ISNUMBER(J9),CONCATENATE(Programação!F26,\" \",Programação!G26,\" \",Programação!H26,\" \",Programação!I26,\" \",Programação!J26,\" \",Programação!K26),\"\")","v":""}]
[null,"P4",{"$nulls":7},{"$f":"IF(Programação!W27=0,8,\"\")","v":""},{"$f":"IF(ISNUMBER(J10),CONCATENATE(Programação!F27,\" \",Programação!G27,\" \",Programação!H27,\" \",Programação!I27,\" \",Programação!J27,\" \",Programação!K27),\"\")","v":""}]
[{"$nulls":9},{"$f":"IF(Programação!W28=0,9,\"\")","v":""},{"$f":"IF(ISNUMBER(J11),CONCATENATE(Programação!F28,\" \",Programação!G28,\" \",Programação!H28,\" \",Programação!I28,\" \",Programação!J28,\" \",Programação!K28),\"\")","v":""}]
[{"$nulls":9},{"$f":"IF(Programação!W29=0,10,\"\")","v":""},{"$f":"IF(ISNUMBER(J12),CONCATENATE(Programação!F29,\" \",Programação!G29,\" \",Programação!H29,\" \",Programação!I29,\" \",Programação!J29,\" \",Programação!K29),\"\")","v":""}]
[]
[{"$nulls":9},"TOTAL",{"$f":"CONCATENATE(IF(ISNUMBER(J3),K3,\"\"),IF(ISNUMBER(J4),CONCATENATE(IF(ISNUMBER(J3),CHAR(10),\"\"),K4),\"\"),IF(ISNUMBER(J5),CONCATENATE(IF(SUM(J3:J4)>0,CHAR(10),\"\"),K5),\"\"),IF(ISNUMBER(J6),CONCATENATE(IF(SUM(J3:J5)>0,CHAR(10),\"\"),K6),\"\"),IF(ISNUMBER(J7),CONCATENATE(IF(SUM(J3:J6)>0,CHAR(10),\"\"),K7),\"\"),IF(ISNUMBER(J8),CONCATENATE(IF(SUM(J3:J7)>0,CHAR(10),\"\"),K8),\"\"),IF(ISNUMBER(J9),CONCATENATE(IF(SUM(J3:J8)>0,CHAR(10),\"\"),K9),\"\"),IF(ISNUMBER(J10),CONCATENATE(IF(SUM(J3:J9)>0,CHAR(10),\"\"),K10),\"\"),IF(ISNUMBER(J11),CONCATENATE(IF(SUM(J3:J10)>0,CHAR(10),\"\"),K11),\"\"),IF(ISNUMBER(J12),CONCATENATE(IF(SUM(J3:J11)>0,CHAR(10),\"\"),K12),\"\"))","v":""}]
[null,"bool save"]
[{"$nulls":7},"RESUMO"]
[{"$nulls":7},"PROG","GÁS","CAD","PROCESS","TEMPO"]
[{"$nulls":8},{"$f":"IF(ISTEXT(Programação!M10),Programação!M10,\"\")","v":""},{"$f":"IF(ISTEXT(Programação!F10),Programação!F10,\"\")","v":""},{"$f":"K14","v":""},{"$f":"Programação!S31","v":0}]
[]
[{"$nulls":7},"COPIA"]
[{"$nulls":7},"PROG","GÁS","CAD","PROCESSOS","TEMPO","bool Nprog"]
[{"$nulls":7},{"$f":"IF(ISTEXT(I22),\"P1\",\"\")","v":""},{"$nulls":4},{"$f":"IF(H22<>\"\",1,0)","v":0}]
[{"$nulls":7},{"$f":"IF(ISTEXT(I23),\"P2\",\"\")","v":""},{"$nulls":4},{"$f":"IF(H23<>\"\",1,0)","v":0}]
[{"$nulls":7},{"$f":"IF(ISTEXT(I24),\"P3\",\"\")","v":""},{"$nulls":4},0]
[{"$nulls":7},{"$f":"IF(ISTEXT(I25),\"P4\",\"\")","v":""},{"$nulls":4},0]
[{"$nulls":12},{"$f":"SUM(M22:M25)","v":0},"sum N prog"]
[]
["\"",{"$nulls":14},"\""]
[{"$nulls":4},"Solicitação"]
["CONTROLE DE BOTÕES",{"$nulls":3},"forprog"]
["SOLICITAÇÃO",null,null,"BOOL TEC"]
[]
["AMOSTRAS"]
[false]
[false,false,false,false,false,false,false,false,false,false,false,false]
[false,false,false,false,false,false,false,false,false,false,false,false]
[false]
[false,{"$nulls":4},false]
[false]
[false]
[false]
[false]
[false,false,false,false,false,null,null,false]
[]
["PROGRAMAÇÃO"]
["VAR PROG1",0]
["VARPROG2",0]
["VARPROG3",0]

{"sheet":"Programação","index":5,"n_rows":40,"n_cols":23,"rows_kept":40,"hidden":true,"merged":[[0,4,0,16],[1,4,1,16],[11,8,11,15],[12,9,12,13],[18,11,18,14],[18,15,18,16],[35,6,35,8],[35,9,35,14],[35,15,35,17],[36,6,36,8],[36,9,36,14],[36,15,36,16],[37,6,37,8],[37,9,37,14],[37,15,37,16],[38,6,38,8],[38,9,38,14],[38,15,38,16],[39,6,39,8],[39,9,39,14],[39,15,39,16]]}
[{"$nulls":4},"Selecione um tipo de cadinho e o gás de purga, informe a programação de temperatura utilizandos os botões apropriados e grave a programação construída antes de avançar."]
[{"$nulls":4},"Pressione ENTER sempre que inserir uma nova informação."]
[]
[]
[{"$nulls":4},"Descreva como suas análises deverão ser realizadas",{"$nulls":7},"passo 4 de 5"]
["abaixo será igual controle A3"]
["equipam",{"$f":"controle!A3","v":0},null,"'''"]
["°C min E1",30,"t min E1",1]
["°C max E1",{"$f":"IF(B7=2,550,IF(AND(B7=1,F10=\"α-Alumina\",D29=1),1200,IF(AND(B7=1,OR(F10=\"Platina\",D29=2)),1000,IF(AND(B7=3,F10=\"α-Alumina\",D29=1),1000,IF(AND(B7=3,OR(F10=\"Platina\",D29=2)),1000)))))","v":false},"t max E1",60,null,"Cadinho*",{"$nulls":6},"Gás de purga*"]
[]
[]
["Qnt etapa",{"$f":"COUNT(E20:E29)","v":0},{"$nulls":6},{"$f":"IF(B9=550,\"Evite temperaturas maiores que a temperatura de decomposição da amostra!\",\"\")","v":""}]
[{"$nulls":5},"Blocos de programação",null,null,{"$f":"IF(AND(ISTEXT(F10),ISTEXT(M10)),\"OBS:\",\"\")","v":""},{"$f":"IF(AND(ISTEXT(F10),ISTEXT(M10)),\"O limite máximo de temperatura para a sua programação é \",\"\")","v":""},{"$nulls":4},{"$f":"IF(AND(ISTEXT(F10),ISTEXT(M10)),B9,\"\")","v":""},{"$f":"IF(AND(ISTEXT(F10),ISTEXT(M10)),\"°C\",\"\")","v":""}]
[]
[]
[]
[]
[]
[{"$nulls":3},"bool gás","Etapa","Processo","VP.1",null,null,"VP.2",null,"Pré-visualização da programação",{"$nulls":3},"● N2        ● Ar sint.",null,0,30,{"$f":"IF(D20=1,S19,NA())","v":{"$error":"#N/A"}},{"$f":"IF(D20=2,S19,NA())","v":{"$error":"#N/A"}}]
[{"$nulls":3},{"$f":"IF(M10=\"Nitrogênio\",1,IF(M10=\"Ar sintético\",2,0))","v":0},{"$f":"IF(ISTEXT(F20),1,\"\")","v":""},null,null,{"$f":"IF(ISBLANK(F20),\"\",IF(F20=\"Rampa até\",\"°C\",IF(F20=\"Isoterma por\",\"min\",IF(AND(F20=\"Troca de gás\",D20=1),\"Air->N2\",IF(AND(F20=\"Troca de gás\",D20=2),\"N2->Air\",\"\")))))","v":""},{"$f":"IF(ISBLANK(F20),\"\",IF(F20=\"Rampa até\",\"com taxa de\",\"\"))","v":""},null,{"$f":"IF(ISBLANK(F20),\"\",IF(F20=\"Rampa até\",\"°C / min\",\"\"))","v":""},{"$nulls":6},{"$f":"IF(OR(ISBLANK(F20),F20=\"Troca de gás\"),R19,IF(AND(F20=\"Isoterma por\",ISNUMBER(G20)),G20+R19,IF(AND(F20=\"Rampa até\",ISNUMBER(G20),ISNUMBER(J20)),R19+((G20-S19)/J20),R19)))","v":0},{"$f":"IF(OR(ISBLANK(F20),F20=\"Troca de gás\"),S19,IF(AND(F20=\"Isoterma por\",ISNUMBER(G20)),S19,IF(AND(F20=\"Rampa até\",ISNUMBER(G20),ISNUMBER(J20)),G20,S19)))","v":30},{"$f":"IF(D20=1,S20,NA())","v":{"$error":"#N/A"}},{"$f":"IF(D20=2,S20,NA())","v":{"$error":"#N/A"}},{"$f":"IF(F20=\"Rampa até\",3,IF(F20=\"Isoterma por\",2,IF(F20=\"Troca de gás\",1,IF(ISBLANK(F20),\"\"))))","v":""},{"$f":"IF(AND(ISTEXT(F20),ISNUMBER(G20),ISBLANK(J20)),V20-2,IF(AND(ISTEXT(F20),ISNUMBER(G20),ISNUMBER(J20)),V20-3,IF(F20=\"Troca de gás\",V20-1,IF(AND(ISTEXT(F20),OR(AND(ISBLANK(G20),ISBLANK(J20)),ISBLANK(G20))),1,\"\"))))","v":""}]
[{"$nulls":3},{"$f":"IF(OR(ISBLANK(F21),F21=\"Rampa até\",F21=\"Isoterma por\"),D20,IF(AND(F21=\"Troca de gás\",D20=1),2,IF(AND(F21=\"Troca de gás\",D20=2),1,D20)))","v":0},{"$f":"IF(ISTEXT(F21),2,\"\")","v":""},null,null,{"$f":"IF(ISBLANK(F21),\"\",IF(F21=\"Rampa até\",\"°C\",IF(F21=\"Isoterma por\",\"min\",IF(AND(F21=\"Troca de gás\",D21=1),\"Air->N2\",IF(AND(F21=\"Troca de gás\",D21=2),\"N2->Air\",\"\")))))","v":""},{"$f":"IF(ISBLANK(F21),\"\",IF(F21=\"Rampa até\",\"com taxa de\",\"\"))","v":""},null,{"$f":"IF(ISBLANK(F21),\"\",IF(F21=\"Rampa até\",\"°C / min\",\"\"))","v":""},{"$nulls":6},0,30,{"$error":"#N/A"},{"$error":"#N/A"},{"$f":"IF(F21=\"Rampa até\",3,IF(F21=\"Isoterma por\",2,IF(F21=\"Troca de gás\",1,IF(ISBLANK(F21),\"\"))))","v":""},{"$f":"IF(AND(ISTEXT(F21),ISNUMBER(G21),ISBLANK(J21)),V21-2,IF(AND(ISTEXT(F21),ISNUMBER(G21),ISNUMBER(J21)),V21-3,IF(F21=\"Troca de gás\",V21-1,IF(AND(ISTEXT(F21),OR(AND(ISBLANK(G21),ISBLANK(J21)),ISBLANK(G21))),1,\"\"))))","v":""}]
[{"$nulls":3},{"$f":"IF(OR(ISBLANK(F22),F22=\"Rampa até\",F22=\"Isoterma por\"),D21,IF(AND(F22=\"Troca de gás\",D21=1),2,IF(AND(F22=\"Troca de gás\",D21=2),1,D21)))","v":0},{"$f":"IF(ISTEXT(F22),3,\"\")","v":""},null,null,"","",null,"",{"$nulls":6},0,30,{"$error":"#N/A"},{"$error":"#N/A"},"",""]
[{"$nulls":3},0,{"$f":"IF(ISTEXT(F23),4,\"\")","v":""},null,null,"","",null,"",{"$nulls":6},0,30,{"$error":"#N/A"},{"$error":"#N/A"},"",""]
[{"$nulls":3},0,{"$f":"IF(ISTEXT(F24),5,\"\")","v":""},null,null,"","",null,"",{"$nulls":6},0,30,{"$error":"#N/A"},{"$error":"#N/A"},"",""]
[{"$nulls":3},0,{"$f":"IF(ISTEXT(F25),6,\"\")","v":""},null,null,"","",null,"",{"$nulls":6},0,30,{"$error":"#N/A"},{"$error":"#N/A"},"",""]
[{"$nulls":3},0,{"$f":"IF(ISTEXT(F26),7,\"\")","v":""},null,null,"","",null,"",{"$nulls":6},0,30,{"$error":"#N/A"},{"$error":"#N/A"},"",""]
[{"$nulls":3},0,{"$f":"IF(ISTEXT(F27),8,\"\")","v":""},null,null,"","",null,"",{"$nulls":6},0,30,{"$error":"#N/A"},{"$error":"#N/A"},"",""]
[{"$nulls":3},0,{"$f":"IF(ISTEXT(F28),9,\"\")","v":""},null,null,"","",null,"",{"$nulls":6},0,30,{"$error":"#N/A"},{"$error":"#N/A"},"",""]
[{"$nulls":3},0,{"$f":"IF(ISTEXT(F29),10,\"\")","v":""},null,null,"","",null,"",{"$nulls":6},0,30,{"$error":"#N/A"},{"$error":"#N/A"},"",""]
[{"$nulls":5},{"$f":"COUNTIF(F20:F29,\"Troca de gás\")","v":0},{"$nulls":11},"max °C",{"$f":"IF(AND(COUNTIF(F20:F29,\"Rampa até\")>0,ISNUMBER(LARGE(G20:G29,1))),LARGE(G20:G29,1),30)","v":30},null,null,"ContPro0",{"$f":"COUNTIF(W20:W29,0)","v":0}]
[{"$nulls":5},{"$f":"COUNTIF(F20:F29,\"Rampa até\")","v":0},{"$nulls":11},"max min",{"$f":"LARGE(R19:R29,1)","v":0}]
[]
[]
[{"$nulls":4},"Programações gravadas",{"$nulls":3},{"$f":"controle!M26","v":0}]
[]
[{"$nulls":4},"Prog.","Gás","Cadinho",null,null,"Processos",{"$nulls":5},"Tempo de programação (min)"]
[{"$nulls":3},"\"",{"$f":"controle!H22","v":""},{"$f":"IF(ISBLANK(controle!I22),\"\",controle!I22)","v":""},{"$f":"IF(ISBLANK(controle!J22),\"\",controle!J22)","v":""},null,null,{"$f":"IF(ISBLANK(controle!K22),\"\",controle!K22)","v":""},{"$nulls":5},{"$f":"IF(ISBLANK(controle!L22),\"\",controle!L22)","v":""},null,null,{"$f":"controle!K22","v":0}]
[{"$nulls":3},"\"",{"$f":"controle!H23","v":""},{"$f":"IF(ISBLANK(controle!I23),\"\",controle!I23)","v":""},{"$f":"IF(ISBLANK(controle!J23),\"\",controle!J23)","v":""},null,null,{"$f":"IF(ISBLANK(controle!K23),\"\",controle!K23)","v":""},{"$nulls":5},{"$f":"IF(ISBLANK(controle!L23),\"\",controle!L23)","v":""},null,null,{"$f":"controle!K23","v":0}]
[{"$nulls":3},"\"",{"$f":"controle!H24","v":""},{"$f":"IF(ISBLANK(controle!I24),\"\",controle!I24)","v":""},{"$f":"IF(ISBLANK(controle!J24),\"\",controle!J24)","v":""},null,null,{"$f":"IF(ISBLANK(controle!K24),\"\",controle!K24)","v":""},{"$nulls":5},{"$f":"IF(ISBLANK(controle!L24),\"\",controle!L24)","v":""},null,null,{"$f":"controle!K24","v":0}]
[{"$nulls":3},"\"",{"$f":"controle!H25","v":""},{"$f":"IF(ISBLANK(controle!I25),\"\",controle!I25)","v":""},{"$f":"IF(ISBLANK(controle!J25),\"\",controle!J25)","v":""},null,null,{"$f":"IF(ISBLANK(controle!K25),\"\",controle!K25)","v":""},{"$nulls":5},{"$f":"IF(ISBLANK(controle!L25),\"\",controle!L25)","v":""},null,null,{"$f":"controle!K25","v":0}]

{"sheet":"Confirmação","index":6,"n_rows":55,"n_cols":23,"rows_kept":55,"hidden":true,"merged":[[0,4,0,15],[1,4,1,15],[6,4,6,5],[6,6,6,8],[6,9,6,10],[7,4,8,11],[9,4,9,11],[10,17,19,17],[10,22,19,22],[11,4,11,5],[11,6,11,8],[11,9,11,10],[12,4,13,11],[14,4,14,11],[16,4,16,5],[16,6,16,8],[16,9,16,10],[17,4,18,11],[19,4,19,11],[21,4,21,5],[21,6,21,8],[21,9,21,10],[22,4,23,11],[23,17,32,17],[23,22,32,22],[24,4,24,11],[26,4,26,5],[26,6,26,8],[26,9,26,10],[27,4,28,11],[29,4,29,11],[31,4,31,5],[31,6,31,8],[31,9,31,10],[32,4,33,11],[34,4,34,11],[36,4,36,5],[36,6,36,8],[36,9,36,10],[37,4,38,11],[39,4,39,11],[41,4,41,5],[41,6,41,8],[41,9,41,10],[42,4,43,11],[44,4,44,11],[46,4,46,5],[46,6,46,8],[46,9,46,10],[47,4,48,11],[49,4,49,11],[51,4,51,5],[51,6,51,8],[51,9,51,10],[52,4,53,11],[54,4,54,11]]}
[{"$nulls":4},"Por padrão, todas as análises são marcadas para obedecer a programação P1."]
[{"$nulls":4},"Se você usará uma programação diferente para alguma delas, altere-a antes de continuar!"]
[]
[]
["N amost",{"$f":"Solicitação!E12","v":1},null,null,"Confirme os dados da sua solicitação",{"$nulls":6},"Passo 5 de 5"]
["Up",{"$f":"((-5.585*B5)+56.87)","v":51.285}]
["Dwn",{"$f":"1/B6","v":0.01949887881446817},null,null,"Amostra 01",null,{"$f":"IF(ISBLANK(Amostras!E9),\"\",Amostras!E9)","v":""},null,null,"Programação",null,"P1",null,null,"Lista de programações",{"$nulls":3},"Nplan",{"$f":"controle!M26","v":0}]
[{"$nulls":4},{"$f":"IF(ISBLANK(Amostras!E12),\"\",CONCATENATE(Amostras!E12,\" - Armazenamento: \", Amostras!K9))","v":""}]
["bool tec",{"$f":"IF(OR(Solicitação!B9=1,Solicitação!B9=2,Solicitação!B9=4),1,IF(Solicitação!B9=3,2,IF(OR(Solicitação!B9=5,Solicitação!B9=6),3,0)))","v":0},{"$nulls":12},"P1",{"$nulls":4},"P3"]
["para voltar a programação certa",{"$nulls":3},{"$f":"Amostras!M128","v":""},{"$nulls":10},"Gás de purga ","Cadinho","Processos",null,null,"Gás de purga ","Cadinho","Processos"]
[{"$nulls":15},{"$f":"controle!I22","v":0},{"$f":"controle!J22","v":0},{"$f":"controle!K22","v":0},null,null,{"$f":"controle!I24","v":0},{"$f":"controle!J24","v":0},{"$f":"controle!K24","v":0}]
[{"$nulls":4},"Amostra 02",null,{"$f":"IF(ISBLANK(Amostras!E21),\"\",Amostras!E21)","v":""},null,null,"Programação",null,"P1"]
["Nprog",{"$f":"controle!M26","v":0},null,null,{"$f":"IF(ISBLANK(Amostras!E24),\"\",CONCATENATE(Amostras!E24,\" - Armazenamento: \", Amostras!K21))","v":""}]
[]
[{"$nulls":4},{"$f":"Amostras!M129","v":""}]
[]
[{"$nulls":4},"Amostra 03",null,{"$f":"IF(ISBLANK(Amostras!E33),\"\",Amostras!E33)","v":""},null,null,"Programação",null,"P1"]
[{"$nulls":4},{"$f":"IF(ISBLANK(Amostras!E36),\"\",CONCATENATE(Amostras!E36,\" - Armazenamento: \", Amostras!K33))","v":""}]
[]
[{"$nulls":4},{"$f":"Amostras!M130","v":""}]
[]
[{"$nulls":4},"Amostra 04",null,{"$f":"IF(ISBLANK(Amostras!E45),\"\",Amostras!E45)","v":""},null,null,"Programação",null,"P1",null,null,"P2",{"$nulls":4},"P4"]
[{"$nulls":4},{"$f":"IF(ISBLANK(Amostras!E48),\"\",CONCATENATE(Amostras!E48,\" - Armazenamento: \", Amostras!K45))","v":""},{"$nulls":10},"Gás de purga ","Cadinho","Processos",null,null,"Gás de purga ","Cadinho","Processos"]
[{"$nulls":15},{"$f":"controle!I23","v":0},{"$f":"controle!J23","v":0},{"$f":"controle!K23","v":0},null,null,{"$f":"controle!I25","v":0},{"$f":"controle!J25","v":0},{"$f":"controle!K25","v":0}]
[{"$nulls":4},{"$f":"Amostras!M131","v":""}]
[]
[{"$nulls":4},"Amostra 05",null,{"$f":"IF(ISBLANK(Amostras!E57),\"\",Amostras!E57)","v":""},null,null,"Programação",null,"P1"]
[{"$nulls":4},{"$f":"IF(ISBLANK(Amostras!E60),\"\",CONCATENATE(Amostras!E60,\" - Armazenamento: \", Amostras!K57))","v":""}]
[]
[{"$nulls":4},{"$f":"Amostras!M132","v":""}]
[]
[{"$nulls":4},"Amostra 06",null,{"$f":"IF(ISBLANK(Amostras!E69),\"\",Amostras!E69)","v":""},null,null,"Programação",null,"P1"]
[{"$nulls":4},{"$f":"IF(ISBLANK(Amostras!E72),\"\",CONCATENATE(Amostras!E72,\" - Armazenamento: \", Amostras!K69))","v":""}]
[]
[{"$nulls":4},{"$f":"Amostras!M133","v":""}]
[]
[{"$nulls":4},"Amostra 07",null,{"$f":"IF(ISBLANK(Amostras!E81),\"\",Amostras!E81)","v":""},null,null,"Programação",null,"P1"]
[{"$nulls":4},{"$f":"IF(ISBLANK(Amostras!E84),\"\",CONCATENATE(Amostras!E84,\" - Armazenamento: \", Amostras!K81))","v":""}]
[]
[{"$nulls":4},{"$f":"Amostras!M134","v":""}]
[]
[{"$nulls":4},"Amostra 08",null,{"$f":"IF(ISBLANK(Amostras!E93),\"\",Amostras!E93)","v":""},null,null,"Programação",null,"P1"]
[{"$nulls":4},{"$f":"IF(ISBLANK(Amostras!E96),\"\",CONCATENATE(Amostras!E96,\" - Armazenamento: \", Amostras!K93))","v":""}]
[]
[{"$nulls":4},{"$f":"Amostras!M135","v":""}]
[]
[{"$nulls":4},"Amostra 09",null,{"$f":"IF(ISBLANK(Amostras!E105),\"\",Amostras!E105)","v":""},null,null,"Programação",null,"P1"]
[{"$nulls":4},{"$f":"IF(ISBLANK(Amostras!E108),\"\",CONCATENATE(Amostras!E108,\" - Armazenamento: \", Amostras!K105))","v":""}]
[]
[{"$nulls":4},{"$f":"Amostras!M136","v":""}]
[]
[{"$nulls":4},"Amostra 10",null,{"$f":"IF(ISBLANK(Amostras!E117),\"\",Amostras!E117)","v":""},null,null,"Programação",null,"P1"]
[{"$nulls":4},{"$f":"IF(ISBLANK(Amostras!E120),\"\",CONCATENATE(Amostras!E120,\" - Armazenamento: \", Amostras!K117))","v":""}]
[]
[{"$nulls":4},{"$f":"Amostras!M137","v":""}]

{"sheet":"pdf","index":7,"n_rows":34,"n_cols":5,"rows_kept":34,"hidden":true,"merged":[[3,0,4,4],[7,0,7,4],[8,0,8,1],[9,0,9,1],[10,0,10,1],[12,0,12,4],[13,0,13,4],[15,0,15,4],[28,0,28,4]]}
[]
[]
[]
[{"$f":"CONCATENATE(\"FORMULÁRIO DE DESCRIÇÃO DE ANÁLISE PARA   \",IF(controle!C3=1,\"TGA\",IF(controle!C3=2,\"DTA\",IF(controle!C3=3,\"DSC\",IF(controle!C3=4,\"STA\",IF(controle!C3=5,\"EGA\",IF(controle!C3=6,\"EGA-TGA\",\"\")))))))","v":"FORMULÁRIO DE DESCRIÇÃO DE ANÁLISE PARA   "}]
[]
[]
[]
["DADOS DO SOLICITANTE"]
["Nome completo",null,{"$f":"Dados!E8","v":0},"Tipo de vínculo",{"$f":"Dados!E14","v":0}]
["Endereço de e-mail",null,{"$f":"Dados!E11","v":0},"Matrícula",{"$f":"Dados!E17","v":0}]
["Professor orientador",null,{"$f":"Dados!E23","v":0},"Departamento",{"$f":"Dados!E20","v":0}]
[]
["OBJETIVO DAS ANÁLISES"]
[{"$f":"Solicitação!E16","v":0}]
[]
["DESCRIÇÃO GERAL PARA AS ANÁLISES"]
["Prog.","Código","Composição","Características","Armazenamento"]
[{"$f":"IF(B18<>\"\",Confirmação!L7,\"\")","v":""},{"$f":"Confirmação!G7","v":""},{"$f":"IF(ISBLANK(Amostras!E12),\"\",Amostras!E12)","v":""},{"$f":"Confirmação!E10","v":""},{"$f":"IF(B18<>\"\",Amostras!K9,\"\")","v":""}]
[{"$f":"IF(B19<>\"\",Confirmação!L12,\"\")","v":""},{"$f":"Confirmação!G12","v":""},{"$f":"IF(ISBLANK(Amostras!E24),\"\",Amostras!E24)","v":""},{"$f":"Confirmação!E15","v":""},{"$f":"IF(B19<>\"\",Amostras!K21,\"\")","v":""}]
[{"$f":"IF(B20<>\"\",Confirmação!L17,\"\")","v":""},{"$f":"Confirmação!G17","v":""},{"$f":"IF(ISBLANK(Amostras!E36),\"\",Amostras!E36)","v":""},{"$f":"Confirmação!E20","v":""},{"$f":"IF(B20<>\"\",Amostras!K33,\"\")","v":""}]
[{"$f":"IF(B21<>\"\",Confirmação!L22,\"\")","v":""},{"$f":"Confirmação!G22","v":""},{"$f":"IF(ISBLANK(Amostras!E48),\"\",Amostras!E48)","v":""},{"$f":"Confirmação!E25","v":""},{"$f":"IF(B21<>\"\",Amostras!K45,\"\")","v":""}]
[{"$f":"IF(B22<>\"\",Confirmação!L27,\"\")","v":""},{"$f":"Confirmação!G27","v":""},{"$f":"IF(ISBLANK(Amostras!E60),\"\",Amostras!E60)","v":""},{"$f":"Confirmação!E30","v":""},{"$f":"IF(B22<>\"\",Amostras!K57,\"\")","v":""}]
[{"$f":"IF(B23<>\"\",Confirmação!L32,\"\")","v":""},{"$f":"Confirmação!G32","v":""},{"$f":"IF(ISBLANK(Amostras!E72),\"\",Amostras!E72)","v":""},{"$f":"Confirmação!E35","v":""},{"$f":"IF(B23<>\"\",Amostras!K69,\"\")","v":""}]
[{"$f":"IF(B24<>\"\",Confirmação!L37,\"\")","v":""},{"$f":"Confirmação!G37","v":""},{"$f":"IF(ISBLANK(Amostras!E84),\"\",Amostras!E84)","v":""},{"$f":"Confirmação!E40","v":""},{"$f":"IF(B24<>\"\",Amostras!K81,\"\")","v":""}]
[{"$f":"IF(B25<>\"\",Confirmação!L42,\"\")","v":""},{"$f":"Confirmação!G42","v":""},{"$f":"IF(ISBLANK(Amostras!E96),\"\",Amostras!E96)","v":""},{"$f":"Confirmação!E45","v":""},{"$f":"IF(B25<>\"\",Amostras!K93,\"\")","v":""}]
[{"$f":"IF(B26<>\"\",Confirmação!L47,\"\")","v":""},{"$f":"Confirmação!G47","v":""},{"$f":"IF(ISBLANK(Amostras!E108),\"\",Amostras!E108)","v":""},{"$f":"Confirmação!E50","v":""},{"$f":"IF(B26<>\"\",Amostras!K105,\"\")","v":""}]
[{"$f":"IF(B27<>\"\",Confirmação!L52,\"\")","v":""},{"$f":"Confirmação!G52","v":""},{"$f":"IF(ISBLANK(Amostras!E120),\"\",Amostras!E120)","v":""},{"$f":"Confirmação!E55","v":""},{"$f":"IF(B27<>\"\",Amostras!K117,\"\")","v":""}]
[]
["PROGRAMAÇÕES"]
[null,"Gás de purga","Cadinho","Processos","Tempo de programa - min"]
[{"$f":"controle!H22","v":""},{"$f":"controle!I22","v":0},{"$f":"controle!J22","v":0},{"$f":"controle!K22","v":0},{"$f":"controle!L22","v":0}]
[{"$f":"controle!H23","v":""},{"$f":"controle!I23","v":0},{"$f":"controle!J23","v":0},{"$f":"controle!K23","v":0},{"$f":"controle!L23","v":0}]
[{"$f":"controle!H24","v":""},{"$f":"controle!I24","v":0},{"$f":"controle!J24","v":0},{"$f":"controle!K24","v":0},{"$f":"controle!L24","v":0}]
[{"$f":"controle!H25","v":""},{"$f":"controle!I25","v":0},{"$f":"controle!J25","v":0},{"$f":"controle!K25","v":0},{"$f":"controle!L25","v":0}]

{"sheet":"Fim","index":8,"n_rows":15,"n_cols":5,"rows_kept":15,"hidden":true}
{"$rows_empty":10}
[{"$nulls":4},"Formulário criado com sucesso!"]
[]
[{"$nulls":4},"Por favor, anexe o formulário gerado no campo adequado durante o registro de solicitação no site da Central Analítica do IQ-UFRN"]
[]
[{"$nulls":4},"Após a aprovação da sua solicitação, entraremos em contato para agendar o recebimento das amostras"]